BEGIN:VCALENDAR
VERSION:2.0
PRODID:-//Kunst- und Musikschule Dippoldiswalde e.V. - ECPv6.0.1.1//NONSGML v1.0//EN
CALSCALE:GREGORIAN
METHOD:PUBLISH
X-WR-CALNAME:Kunst- und Musikschule Dippoldiswalde e.V.
X-ORIGINAL-URL:https://kmdw.de
X-WR-CALDESC:Veranstaltungen für Kunst- und Musikschule Dippoldiswalde e.V.
REFRESH-INTERVAL;VALUE=DURATION:PT1H
X-Robots-Tag:noindex
X-PUBLISHED-TTL:PT1H
BEGIN:VTIMEZONE
TZID:Europe/Berlin
BEGIN:DAYLIGHT
TZOFFSETFROM:+0100
TZOFFSETTO:+0200
TZNAME:CEST
DTSTART:20240331T010000
END:DAYLIGHT
BEGIN:STANDARD
TZOFFSETFROM:+0200
TZOFFSETTO:+0100
TZNAME:CET
DTSTART:20241027T010000
END:STANDARD
BEGIN:DAYLIGHT
TZOFFSETFROM:+0100
TZOFFSETTO:+0200
TZNAME:CEST
DTSTART:20250330T010000
END:DAYLIGHT
BEGIN:STANDARD
TZOFFSETFROM:+0200
TZOFFSETTO:+0100
TZNAME:CET
DTSTART:20251026T010000
END:STANDARD
BEGIN:DAYLIGHT
TZOFFSETFROM:+0100
TZOFFSETTO:+0200
TZNAME:CEST
DTSTART:20260329T010000
END:DAYLIGHT
BEGIN:STANDARD
TZOFFSETFROM:+0200
TZOFFSETTO:+0100
TZNAME:CET
DTSTART:20261025T010000
END:STANDARD
END:VTIMEZONE
BEGIN:VEVENT
DTSTART;TZID=Europe/Berlin:20260418T100000
DTEND;TZID=Europe/Berlin:20260418T160000
DTSTAMP:20260424T163301
CREATED:20260318T124443Z
LAST-MODIFIED:20260320T114518Z
UID:4989-1776506400-1776528000@kmdw.de
SUMMARY:Jazz-Rock-Pop Projekt
DESCRIPTION:Die Kunst- und Musikschule lädt herzlich zum \nJazz · Rock · Pop Projekt für die „großen“ Schülerinnen und Schüler ein. \nIm Rahmen dieses Projekttages erarbeiten die Teilnehmenden gemeinsam ein abwechslungsreiches Programm aus den Bereichen Jazz\, Rock und Pop\, das am Nachmittag öffentlich präsentiert wird. \nDatum: Samstag\, 18.04.2026 \nBeginn des Projekts: ab 10:00 Uhr \nKonzertpräsentation: 15:30 Uhr \nDie Anmeldung zum Projekt wird erbeten bei den jeweiligen Fachlehrerinnen und Fachlehrern. \nWir freuen uns auf einen kreativen Projekttag und ein spannendes Abschlusskonzert.
URL:https://kmdw.de/termin/jazz-rock-pop-projekt/
LOCATION:Hauptgebäude KMDW\, Schulgäßchen 1\, Dippoldiswalde\, Sachsen\, 01744\, Deutschland
ORGANIZER;CN="Kunst-%20und%20Musikschule%20Dippoldiswalde%20e.V.":MAILTO:info@kmdw.de
END:VEVENT
BEGIN:VEVENT
DTSTART;TZID=Europe/Berlin:20260417T173000
DTEND;TZID=Europe/Berlin:20260417T173000
DTSTAMP:20260424T163301
CREATED:20260318T124249Z
LAST-MODIFIED:20260318T124249Z
UID:4987-1776447000-1776447000@kmdw.de
SUMMARY:Familienkonzert
DESCRIPTION:Die Kunst- und Musikschule lädt herzlich zum \nFamilienkonzert der Schülerinnen und Schüler ein. \nGemeinsam mit Eltern sowie weiteren Familienmitgliedern gestalten unsere Schülerinnen und Schüler einen musikalischen Nachmittag und präsentieren ihr Können in einem vielfältigen Programm. \nDatum: Freitag\, 17.04.2026 \nUhrzeit: ab 17:30 Uhr \nOrt: Haus Seeblick\, Paulsdorf \nAlle Familien\, Freunde und Interessierten sind herzlich willkommen. \nDer Eintritt ist frei. \nWir freuen uns auf einen stimmungsvollen Abend und zahlreiche Gäste. \nMit freundlichen Grüßen \nIhre Kunst- und Musikschule Dippoldiswalde
URL:https://kmdw.de/termin/familienkonzert/
LOCATION:Haus Seeblick\, Talsperrenstr. 56\, Dippoldiswalde OT Paulsdorf\, 01744
ORGANIZER;CN="Kunst-%20und%20Musikschule%20Dippoldiswalde%20e.V.":MAILTO:info@kmdw.de
END:VEVENT
BEGIN:VEVENT
DTSTART;TZID=Europe/Berlin:20251130T150000
DTEND;TZID=Europe/Berlin:20251130T170000
DTSTAMP:20260424T163301
CREATED:20190922T204753Z
LAST-MODIFIED:20251001T080445Z
UID:2494-1764514800-1764522000@kmdw.de
SUMMARY:Adventskonzert im Schloss Lauenstein
DESCRIPTION:Ein Konzert bei Kerzenschein Ein stimmungsvoller Nachmittag voller Musik und Atmosphäre \nEs musizieren die Schülerinnen und Schüler der Kunst- und Musikschule Dippoldiswalde e. V. \nEintritt frei – über eine Spende freuen wir uns.
URL:https://kmdw.de/termin/adventskonzert-im-schloss-lauenstein/
LOCATION:Schloss Lauenstein\, Osterzgebirgsmuseum Schloss Lauenstein Stadtteil Lauenstein\, 01778 Altenberg\, Sachsen\, D-01778
ORGANIZER;CN="Kunst-%20und%20Musikschule%20Dippoldiswalde%20e.V.":MAILTO:info@kmdw.de
END:VEVENT
BEGIN:VEVENT
DTSTART;TZID=Europe/Berlin:20250824T100000
DTEND;TZID=Europe/Berlin:20250824T170000
DTSTAMP:20260424T163301
CREATED:20250812T102136Z
LAST-MODIFIED:20250812T102136Z
UID:4955-1756029600-1756054800@kmdw.de
SUMMARY:„Dippser Kultürchen“ – Kulturfest im und am Pavillon 
DESCRIPTION:„Dippser Kultürchen“ – Kulturfest im und am Pavillon  \n\n\nAm Sonntag\, den 24. August 2025\, wird es bunt und lebendig rund um den Pavillon in Dippoldiswalde!Von 10:00 bis 17:00 Uhr öffnen wir die Türen für alle – ob Groß oder Klein\, ob aktiv oder einfach nur neugierig. \n\n\nWer Lust hat zu malen\, drucken\, lesen\, schreiben\, basteln\, tanzen oder musizieren\, ist herzlich eingeladen!Wer lieber nur schauen\, lauschen oder naschen möchte\, ist ebenso willkommen. \n\n\nMit dabei sind:🎨 Der Osterzgebirgische Kunstverein e.V.📖 Die Dipsy-Lesefreunde e.V.🎼 Die Kunst- und Musikschule Dippoldiswalde e.V.🏛️ Die Städtischen Museen Dippoldiswalde \n\n\nFreut euch auf ein abwechslungsreiches Programm mit:✨ Musik und Tanz🖌️ Kreativangeboten wie Malen\, Drucken und Basteln📖 Mitmachaktionen rund ums Lesen und Schreiben💃 Mittelalterliche Tänze & Volkstänze zum Ausprobieren🎲 Spiel & Spaß für die ganze Familie \n\n\nNatürlich gibt’s auch kleine Leckereien und Getränke zur Stärkung zwischendurch. \n\n\nWo?Im und am Pavillon\, Dr.-Friedrich-Straße 25\, Dippoldiswalde \n\n\nWann?Sonntag\, 24. August 2025 | 10:00 – 17:00 Uhr \n\n\nDer Eintritt ist kostenfrei – Spenden zur Unterstützung der kulturellen Arbeit sind jederzeit willkommen! \n\n\nKommt vorbei und feiert mit uns das „Dippser Kultürchen“ – wir freuen uns auf euch! 
URL:https://kmdw.de/termin/dippser-kultuerchen-kulturfest-im-und-am-pavillon/
LOCATION:Parksäle Dippoldiswalde\, Dr.-Friedrichs-Str. 25\, Dippoldiswalde\, Sachsen\, D-01744\, Deutschland
ORGANIZER;CN="Kunst-%20und%20Musikschule%20Dippoldiswalde%20e.V.":MAILTO:info@kmdw.de
END:VEVENT
BEGIN:VEVENT
DTSTART;TZID=Europe/Berlin:20250614T143000
DTEND;TZID=Europe/Berlin:20250614T170000
DTSTAMP:20260424T163301
CREATED:20250327T094456Z
LAST-MODIFIED:20250514T094749Z
UID:4936-1749911400-1749920400@kmdw.de
SUMMARY:Sommerkonzert und Schuljahresabschluss der Kunst- und Musikschule Dippoldiswalde auf Schloss Lauenstein - 2025
DESCRIPTION:Sommerkonzert und Schuljahresabschluss der Kunst- und Musikschule Dippoldiswalde auf Schloss Lauenstein – 2025 \nDer Sommer steht vor der Tür\, und mit ihm ein Highlight\, das Musik- und Kunstfreunde nicht verpassen sollten: Das Sommerkonzertder Kunst- und Musikschule Dippoldiswalde! Am 14.06.2025 wird der Barockgarten auf Schloss Lauenstein erneut zur Bühne für eine unvergessliche Feier der kreativen Leistungen unserer Schülerinnen und Schüler. \nMit einem Mix aus verschieden musikalischen Darbietungen die das vergangene Schuljahr würdigen\, erwartet die Besucher ein entspanntes und unterhaltsames Event. Ob Anfänger oder Fortgeschrittene – die jungen Talente werden ihr Bestes geben und zeigen\, was sie in den letzten Monaten gelernt haben.  \nFreuen Sie sich auf ein abwechslungsreiches Programm\, das mit viel Herz und Leidenschaft präsentiert wird! \nKommen Sie vorbei\, genießen Sie die sommerliche Atmosphäre und feiern Sie mit uns das Ende eines erfolgreichen Musik-Schuljahres. Wir freuen uns auf einen unvergesslichen Nachmittag voller Musik\, Kunst\, Kaffee & Kuchen und guter Stimmung! \nEintritt frei – Spenden willkommen!
URL:https://kmdw.de/termin/sommerkonzert-und-schuljahresabschluss-der-kunst-und-musikschule-dippoldiswalde-auf-schloss-lauenstein-2025/
LOCATION:Schloss Lauenstein\, Osterzgebirgsmuseum Schloss Lauenstein Stadtteil Lauenstein\, 01778 Altenberg\, Sachsen\, D-01778
ORGANIZER;CN="Kunst-%20und%20Musikschule%20Dippoldiswalde%20e.V.":MAILTO:info@kmdw.de
END:VEVENT
BEGIN:VEVENT
DTSTART;TZID=Europe/Berlin:20250601T203000
DTEND;TZID=Europe/Berlin:20250601T203000
DTSTAMP:20260424T163301
CREATED:20250516T083418Z
LAST-MODIFIED:20250516T083418Z
UID:4947-1748809800-1748809800@kmdw.de
SUMMARY:Konzert zum Stadtfest
DESCRIPTION:🎶 Konzert in der Stadtkirche Dippoldiswalde 🎶Im Rahmen des Stadtfestes Dippoldiswalde 2025 \nFreuen Sie sich auf ein festliches Musikerlebnis in der historischen Stadtkirche! Es musizieren: \n\n\nFriedrich-Silcher-Chor Dippoldiswalde \n\n\nKammerorchester der Kunst- und Musikschule Dippoldiswalde e.V. \n\n\nKantorei Dippoldiswalde \n\n\n🎟️ Eintritt frei! \nLassen Sie sich von Chorklängen und orchestralen Werken begeistern – wir freuen uns auf Ihren Besuch!
URL:https://kmdw.de/termin/konzert-zum-stadtfest/
LOCATION:Stadtkirche Dippoldiswalde
END:VEVENT
BEGIN:VEVENT
DTSTART;TZID=Europe/Berlin:20250518T110000
DTEND;TZID=Europe/Berlin:20250518T123000
DTSTAMP:20260424T163301
CREATED:20250318T092438Z
LAST-MODIFIED:20250318T092438Z
UID:4924-1747566000-1747571400@kmdw.de
SUMMARY:ErlebnisZEIT in Glashütte
DESCRIPTION:Die Bands der KMDW und die Gitarrenschüler der Grundschule Glashütte stellen sich vor \nIm Rahmen des besonderen Events der Stadt Glashütte versammeln sich die Bands der Kunst- und Musikschule Dippoldiswalde sowie die Gitarrenschülerinnen und -schüler der Grundschule Glashütte auf einer Bühne\, um ihre Musik der Öffentlichkeit vorzustellen. Ein buntes Programm aus eigenen Kompositionen\, Coverversionen und einer beeindruckenden Instrumentierung erwartet die Besucher. \nDabei bieten sie ein abwechslungsreiches Programm\, das sowohl energiegeladene Rock- und Pop-Songs als auch sanftere\, gefühlvolle Melodien umfasst. \nDie Gitarrenschüler der Grundschule Glashütte bringen ebenfalls ihren eigenen musikalischen Touch ein und zeigen\, was sie im Unterricht gelernt haben. \nWir freuen uns darauf\, die vielen jungen Musiker und Musikerinnen auf der Bühne zu erleben und wünschen ihnen eine unvergessliche Zeit!
URL:https://kmdw.de/termin/erlebniszeit-in-glashuette/
LOCATION:Glashütte
ORGANIZER;CN="Kunst-%20und%20Musikschule%20Dippoldiswalde%20e.V.":MAILTO:info@kmdw.de
END:VEVENT
BEGIN:VEVENT
DTSTART;TZID=Europe/Berlin:20250511T150000
DTEND;TZID=Europe/Berlin:20250511T160000
DTSTAMP:20260424T163301
CREATED:20250318T093008Z
LAST-MODIFIED:20250318T093008Z
UID:4927-1746975600-1746979200@kmdw.de
SUMMARY:Muttertagskaffee mit Musik der Streichhölzer
DESCRIPTION:Muttertagskaffee mit Musik der Streichhölzer im Lohgerbermuseum Dippoldiswalde \nWas gibt es Schöneres\, als den Muttertag in einem historischen Ambiente zu verbringen und dabei den Klängen einer wunderbaren Musikgruppe zu lauschen? Im Lohgerbermuseum Dippoldiswalde erwartet euch genau das! Beim Muttertagskaffee mit Musik treten die „Streichhölzer“ auf und sorgen für einen entspannten und musikalisch unvergesslichen Nachmittag. Perfekt für alle\, die ihre Mütter mit einem besonderen Erlebnis verwöhnen möchten – oder einfach einen schönen Sonntagnachmittag genießen wollen.
URL:https://kmdw.de/termin/muttertagskaffee-mit-musik-der-streichhoelzer/
LOCATION:LOHGERBER MUSEUM & GALERIE Dippoldiswalde\, Freiberger Straße 18\, Dippoldiswalde\, 01744
END:VEVENT
BEGIN:VEVENT
DTSTART;TZID=Europe/Berlin:20250510T100000
DTEND;TZID=Europe/Berlin:20250510T170000
DTSTAMP:20260424T163301
CREATED:20250327T092813Z
LAST-MODIFIED:20250327T092813Z
UID:4934-1746871200-1746896400@kmdw.de
SUMMARY:Jazz-Rock-Pop Projekt - 2025
DESCRIPTION:Jazz-Rock-Pop Projekt: Mitmachen\, Musizieren und Auftritte erleben! \nDu spielst ein Instrument oder bist Sänger*in und hast Lust auf ein kreatives Musikprojekt? Dann bist du beim Jazz-Rock-Pop Projekt genau richtig! \nWer kann mitmachen? \nDas Projekt richtet sich an fortgeschrittene Schülerinnen und Schüler aller Instrumentengattungen sowie aus dem Vokalfach. Egal ob du ein Blasinstrument\, ein Streichinstrument\, Klavier oder Gitarre spielst oder als Sänger*in dabei sein möchtest – du bist herzlich willkommen! \nWas erwartet dich? \nIn diesem Projekt werden bekannte Titel der Popularmusik in verschiedenen Genres – von Jazz über Rock bis hin zu Pop – einstudiert. Die Proben bieten eine tolle Gelegenheit\, gemeinsam mit anderen Musikbegeisterten zu musizieren\, neue Arrangements zu entdecken und ein Gefühl für die Zusammenarbeit in einer Band oder einem Ensemble zu entwickeln. \nProben und Aufführungen \nDie Stücke werden im Fachunterricht vorbereitet und am Projekttag 10.05.2025 ab 10.00 Uhr\, in den Proben zum Leben erweckt. \nEin Abschlusskonzert dieses intensiven Tages findet um 15:30 Uhr im Kleinen Saal im Erdgeschoss statt\, wo du die Möglichkeit hast\, deine Fortschritte zu präsentieren und das Publikum mitzureißen. \nAußerdem bereiten wir das Material für mehrere Auftritte im Laufe der 2. Schuljahreshälfte vor.  \nLeitung des Projekts \nDas Projekt wird von Andreas Leuschner geleitet\, einem erfahrenen Musiker und Leiter von Musikprojekten\, der mit seiner Leidenschaft und Expertise sicherstellt\, dass jeder Teilnehmer das Beste aus sich herausholen kann. \nMelde dich an! \nNutze die Chance\, an diesem musikalischen Abenteuer teilzunehmen! Weitere Informationen zur Anmeldung und zu den Probenzeiten erhältst du direkt bei Deinem Fachlehrer oder der Schulleitung. Wir freuen uns darauf\, gemeinsam mit dir großartige Musik zu machen! \nAnmeldeschluss: 11.04.2025
URL:https://kmdw.de/termin/jazz-rock-pop-projekt-2025/
LOCATION:Hauptgebäude KMDW\, Schulgäßchen 1\, Dippoldiswalde\, Sachsen\, 01744\, Deutschland
ORGANIZER;CN="Kunst-%20und%20Musikschule%20Dippoldiswalde%20e.V.":MAILTO:info@kmdw.de
END:VEVENT
BEGIN:VEVENT
DTSTART;TZID=Europe/Berlin:20250402T143000
DTEND;TZID=Europe/Berlin:20250402T160000
DTSTAMP:20260424T163301
CREATED:20250318T092210Z
LAST-MODIFIED:20250318T092210Z
UID:4921-1743604200-1743609600@kmdw.de
SUMMARY:Frühlingsklänge im Café Achat
DESCRIPTION:Frühlingsklänge im Café Achat: Ein kleines Konzert der Kunst- und Musikschule Dippoldiswalde \nDer Frühling ist da – und mit ihm eine ganz besondere musikalische Gelegenheit in Dippoldiswalde! Schülerinnen und Schüler der Kunst- und Musikschule Dippoldiswalde bringen die ersten warmen Sonnenstrahlen direkt in die Herzen der Zuhörer. Beim Frühlingskonzert im Café Achat dürfen sich Musikliebhaber auf ein abwechslungsreiches Programm freuen\, das nicht nur den Frühling feiert\, sondern auch das Talent junger Künstler aus der Region präsentiert. \nDer Eintritt ist frei – Spenden sind erbeten. \n 
URL:https://kmdw.de/termin/fruehlingsklaenge-im-cafe-achat/
LOCATION:Café Achat\, Schuhgasse 2\, Dippoldiswalde\, Sachsen\, 01744\, Deutschland
ORGANIZER;CN="Kunst-%20und%20Musikschule%20Dippoldiswalde%20e.V.":MAILTO:info@kmdw.de
END:VEVENT
BEGIN:VEVENT
DTSTART;TZID=Europe/Berlin:20250321T173000
DTEND;TZID=Europe/Berlin:20250321T183000
DTSTAMP:20260424T163301
CREATED:20250317T111842Z
LAST-MODIFIED:20250317T111909Z
UID:4913-1742578200-1742581800@kmdw.de
SUMMARY:Musizierstunde Geigenklasse Frau Schlät
DESCRIPTION:Die Schülerinnen und Schüler laden gemeinsam mit Ihrer Geigenlehrerin Frau Schlät zu einer Musizierstunde im Haus Seeblick in Paulsdorf ein. \nhttps://www.seeblick-paulsdorf.de \nDer Eintritt ist frei – wie freuen uns über Spenden!
URL:https://kmdw.de/termin/musizierstunde-geigenklasse-frau-schlaet/
LOCATION:Haus Seeblick\, Talsperrenstr. 56\, Dippoldiswalde OT Paulsdorf\, 01744
ORGANIZER;CN="Kunst-%20und%20Musikschule%20Dippoldiswalde%20e.V.":MAILTO:info@kmdw.de
END:VEVENT
BEGIN:VEVENT
DTSTART;TZID=Europe/Berlin:20241218T160000
DTEND;TZID=Europe/Berlin:20241218T173000
DTSTAMP:20260424T163301
CREATED:20241209T081813Z
LAST-MODIFIED:20241209T081813Z
UID:4907-1734537600-1734543000@kmdw.de
SUMMARY:Weihnachtsvorspiel - Klavierklasse Altenberg
DESCRIPTION:Weihnachtsvorspiel der Klavierklasse von Sergey Trembitskiy  \nDie Klavierklassen von Sergey Trembitskiy aus Altenberg laden herzlich zu einem festlichen Weihnachtsvorspiel ein\, das in zwei Durchläufen stattfindet: \n\n16:00 Uhr – Erster Durchlauf\n17:00 Uhr – Zweiter Durchlauf\n\nDie jungen Musikerinnen und Musiker präsentieren ein abwechslungsreiches Programm mit klassischen und modernen Weihnachtsstücken sowie Klavierkompositionen\, die die festliche Stimmung der Saison einfangen. Sergey Trembitskiy\, als erfahrener Pädagoge und Musiker\, führt die jungen Talente mit Hingabe und Fingerspitzengefühl durch dieses besondere Event. \nIn diesem Jahr findet das Weihnachtsvorspiel in der Kunst- und Musikschule in Dippoldiswalde Schulgäßchen 1 statt. \nDer Eintritt ist frei – Spenden nehmen wir sehr gern entgegen.
URL:https://kmdw.de/termin/weihnachtsvorspiel-klavierklasse-altenberg/
LOCATION:Hauptgebäude KMDW\, Schulgäßchen 1\, Dippoldiswalde\, Sachsen\, 01744\, Deutschland
ORGANIZER;CN="Kunst-%20und%20Musikschule%20Dippoldiswalde%20e.V.":MAILTO:info@kmdw.de
END:VEVENT
BEGIN:VEVENT
DTSTART;TZID=Europe/Berlin:20241130T153000
DTEND;TZID=Europe/Berlin:20241130T163000
DTSTAMP:20260424T163301
CREATED:20241126T121605Z
LAST-MODIFIED:20241126T121755Z
UID:4896-1732980600-1732984200@kmdw.de
SUMMARY:Bimmelbahn und Lichterglanz - Lohgerbermuseum & Galerie
DESCRIPTION:Bimmelbahn & Lichterglanz im LOHGERBER MUSEUM & GALERIE Dippoldiswalde\nAm 1. Adventswochenende lädt das winterliche Weißeritztal entlang der Strecke Freital-Hainsberg bis Kipsdorf bei „Bimmelbahn & Lichterglanz“ zum Streifzug ins Osterzgebirge ein. \nEin Zwischenstopp\, der sich auf jeden Fall lohnt: Der Bahnhof Dippoldiswalde mit Weihnachtsmeile um einem Besuch im LOHGERBER MUSEUM & GALERIE! \nAm 30. Dezember 2024 lädt das Lohgerbermuseum Dippoldiswalde zur feierlichen Eröffnung seiner traditionellen Weihnachtsausstellung ein. Ein ganz besonderes Highlight des Abends ist das musikalische Programm der Kunst- und Musikschule Dippoldiswalde e.V.\, das die Besucher in festliche Stimmung versetzen wird. \nDie jungen Musikerinnen und Musiker der Musikschule präsentieren ein abwechslungsreiches Konzert mit Weihnachtsliedern und klassischen Melodien. In der einzigartigen Atmosphäre des Museums können die Gäste anschließend die Ausstellung genießen und sich von den kunstvollen Darstellungen inspirieren lassen. \nIn weihnachtlicher Atmosphäre können Sie durch unser geschmücktes Museum flanieren\, erzgebirgische Volkskunst bestaunen\, selbst kreativ werden oder einen wärmenden Kaffee mit leckeren Kuchen in unserem Adventscafé genießen. \nUnser Programm am 1. Adventswochenende:\n30. November 2024\n\n\n\n\n10:00 bis 15:00\nAdventsbasteln in der Lederkammer\n\n\n15:30 bis 16:30\nEröffnung der Weihnachtsausstellung mit Musik\, Heißgetränken und Plätzchen\n\n\n\n\nHinweis: Am 1. Adventswochenende gelten reduzierte Eintrittspreise: Erwachsene 5\,00€ & Ermäßigte 2\,00€ \nLink des Veranstalters
URL:https://kmdw.de/termin/bimmelbahn-und-lichterglanz-lohgerbermuseum-galerie/
LOCATION:LOHGERBER MUSEUM & GALERIE Dippoldiswalde\, Freiberger Straße 18\, Dippoldiswalde\, 01744
END:VEVENT
END:VCALENDAR