BEGIN:VCALENDAR
VERSION:2.0
PRODID:-//Kunst- und Musikschule Dippoldiswalde e.V. - ECPv6.0.1.1//NONSGML v1.0//EN
CALSCALE:GREGORIAN
METHOD:PUBLISH
X-WR-CALNAME:Kunst- und Musikschule Dippoldiswalde e.V.
X-ORIGINAL-URL:https://kmdw.de
X-WR-CALDESC:Veranstaltungen für Kunst- und Musikschule Dippoldiswalde e.V.
REFRESH-INTERVAL;VALUE=DURATION:PT1H
X-Robots-Tag:noindex
X-PUBLISHED-TTL:PT1H
BEGIN:VTIMEZONE
TZID:Europe/Berlin
BEGIN:DAYLIGHT
TZOFFSETFROM:+0100
TZOFFSETTO:+0200
TZNAME:CEST
DTSTART:20260329T010000
END:DAYLIGHT
BEGIN:STANDARD
TZOFFSETFROM:+0200
TZOFFSETTO:+0100
TZNAME:CET
DTSTART:20261025T010000
END:STANDARD
END:VTIMEZONE
BEGIN:VEVENT
DTSTART;TZID=Europe/Berlin:20260429T170000
DTEND;TZID=Europe/Berlin:20260429T180000
DTSTAMP:20260424T150004
CREATED:20260320T114738Z
LAST-MODIFIED:20260320T114738Z
UID:4992-1777482000-1777485600@kmdw.de
SUMMARY:Vernissage des Kunstkurses
DESCRIPTION:Herzliche Einladung zur Vernissage der Schülerinnen und Schüler des Kunstkurses der Kunst- und Musikschule. \nAm Mittwoch\, 29. April 2026\, präsentieren die jungen Künstlerinnen und Künstler eine Auswahl ihrer Arbeiten und geben Einblick in ihre kreativen Projekte. \nDatum: 29.04.2026 \nOrt: Kirchenscheune Seifersdorf \nAlle Interessierten\, Eltern\, Familien und Freunde sind herzlich eingeladen\, die Ausstellung zu besuchen und die Werke der Schülerinnen und Schüler zu entdecken. \nWir freuen uns auf Ihr Kommen!
URL:https://kmdw.de/termin/vernissage-des-kunstkurses/
LOCATION:Kirchenscheune Seifersdorf\, Bergstrasse 65\, Seifersdorf\, Sachsen\, 01744\, Deutschland
ORGANIZER;CN="Kunst-%20und%20Musikschule%20Dippoldiswalde%20e.V.":MAILTO:info@kmdw.de
END:VEVENT
BEGIN:VEVENT
DTSTART;TZID=Europe/Berlin:20260509T100000
DTEND;TZID=Europe/Berlin:20260509T140000
DTSTAMP:20260424T150004
CREATED:20260320T114931Z
LAST-MODIFIED:20260320T114931Z
UID:4994-1778320800-1778335200@kmdw.de
SUMMARY:Tag der offenen Tür
DESCRIPTION:Die Kunst- und Musikschule Dippoldiswalde lädt herzlich ein zum \nTag der offenen Tür. \n🎶 Schnuppern – probieren – staunen – begeistern 🎶 \nAm Tag der offenen Tür haben Interessierte jeden Alters die Möglichkeit\, \nunsere Schule kennenzulernen\, alle Instrumente auszuprobieren\, Lehrkräfte zu treffen und einen Einblick in den Unterricht zu erhalten. \nDatum: Samstag\, 9. Mai \nUhrzeit: 10:00–13:00 Uhr \nOrt: Kunst- und Musikschule Dippoldiswalde \nBesonderes Extra: \nDer Förderverein stellt sich vor und sorgt mit kleinen Leckereien für das leibliche Wohl. \nOb groß oder klein – alle sind herzlich willkommen! \nVorbeikommen\, mitmachen und Interesse wecken 🎵
URL:https://kmdw.de/termin/tag-der-offenen-tuer/
LOCATION:Hauptgebäude KMDW\, Schulgäßchen 1\, Dippoldiswalde\, Sachsen\, 01744\, Deutschland
ORGANIZER;CN="Kunst-%20und%20Musikschule%20Dippoldiswalde%20e.V.":MAILTO:info@kmdw.de
END:VEVENT
BEGIN:VEVENT
DTSTART;TZID=Europe/Berlin:20260531T110000
DTEND;TZID=Europe/Berlin:20260531T123000
DTSTAMP:20260424T150004
CREATED:20260320T115113Z
LAST-MODIFIED:20260320T115122Z
UID:4996-1780225200-1780230600@kmdw.de
SUMMARY:Musikalischer Auftritt der Pop-Ensembles ErlebnisZEIT Glashütte
DESCRIPTION:Die Pop-Ensembles der Kunst- und Musikschule Dippoldiswalde laden zu einem mitreißenden Live-Auftritt ein. \nIm Rahmen der ErlebnisZEIT Glashütte präsentieren Schülerinnen und Schüler ein abwechslungsreiches Programm aus Pop- und Rockmusik. \nAußerdem haben die Schülerinnen und Schüler des Gitarren-GTA der Grundschule Glashütte ein kleines Programm vorbereitet. \nSonntag\, 31. Mai 2026 \n11:00 – 12:30 Uhr \nBühne am Markt\, Glashütte \nFreuen Sie sich auf energiegeladene Songs\, bekannte Hits und viel Spielfreude unserer jungen Musikerinnen und Musiker. \nDer Eintritt ist frei – wir freuen uns auf viele Zuhörerinnen und Zuhörer! 🎶
URL:https://kmdw.de/termin/musikalischer-auftritt-der-pop-ensembles-erlebniszeit-glashuette/
LOCATION:Glashütte
END:VEVENT
BEGIN:VEVENT
DTSTART;TZID=Europe/Berlin:20260614T153000
DTEND;TZID=Europe/Berlin:20260614T170000
DTSTAMP:20260424T150004
CREATED:20260320T115258Z
LAST-MODIFIED:20260320T115258Z
UID:4998-1781451000-1781456400@kmdw.de
SUMMARY:Sommerkonzert der Kunst- und Musikschule Dippoldiswalde
DESCRIPTION:Sommerkonzert der Kunst- und Musikschule Dippoldiswalde \nHerzliche Einladung zu unserem Sommerkonzert! \nAm Sonntag\, 14. Juni 2026\, präsentieren Schülerinnen und Schüler der Kunst- und Musikschule Dippoldiswalde ihr musikalisches Können. \nZeit: 15:30 – 17:00 Uhr \nOrt: Bühne der Vereinsmeile vor den Parksäle Dippoldiswalde \nFreuen Sie sich auf ein abwechslungsreiches Programm mit Beiträgen aus verschiedenen Instrumental- und Gesangsklassen. \nWir laden alle Eltern\, Familien\, Freunde und Musikinteressierten herzlich ein und freuen uns auf zahlreiche Zuhörer! \nDer Eintritt ist frei – Spenden sind willkommen!
URL:https://kmdw.de/termin/sommerkonzert-der-kunst-und-musikschule-dippoldiswalde/
LOCATION:Parksäle Dippoldiswalde\, Dr.-Friedrichs-Str. 25\, Dippoldiswalde\, Sachsen\, D-01744\, Deutschland
ORGANIZER;CN="Kunst-%20und%20Musikschule%20Dippoldiswalde%20e.V.":MAILTO:info@kmdw.de
END:VEVENT
END:VCALENDAR